BEGIN:VCALENDAR
VERSION:2.0
PRODID:-//Segel-Club Stevertalsperre e.V. - ECPv6.15.20//NONSGML v1.0//EN
CALSCALE:GREGORIAN
METHOD:PUBLISH
X-WR-CALNAME:Segel-Club Stevertalsperre e.V.
X-ORIGINAL-URL:https://www.scst-haltern.de
X-WR-CALDESC:Veranstaltungen für Segel-Club Stevertalsperre e.V.
REFRESH-INTERVAL;VALUE=DURATION:PT1H
X-Robots-Tag:noindex
X-PUBLISHED-TTL:PT1H
BEGIN:VTIMEZONE
TZID:Europe/Berlin
BEGIN:DAYLIGHT
TZOFFSETFROM:+0100
TZOFFSETTO:+0200
TZNAME:CEST
DTSTART:20230326T010000
END:DAYLIGHT
BEGIN:STANDARD
TZOFFSETFROM:+0200
TZOFFSETTO:+0100
TZNAME:CET
DTSTART:20231029T010000
END:STANDARD
BEGIN:DAYLIGHT
TZOFFSETFROM:+0100
TZOFFSETTO:+0200
TZNAME:CEST
DTSTART:20240331T010000
END:DAYLIGHT
BEGIN:STANDARD
TZOFFSETFROM:+0200
TZOFFSETTO:+0100
TZNAME:CET
DTSTART:20241027T010000
END:STANDARD
BEGIN:DAYLIGHT
TZOFFSETFROM:+0100
TZOFFSETTO:+0200
TZNAME:CEST
DTSTART:20250330T010000
END:DAYLIGHT
BEGIN:STANDARD
TZOFFSETFROM:+0200
TZOFFSETTO:+0100
TZNAME:CET
DTSTART:20251026T010000
END:STANDARD
END:VTIMEZONE
BEGIN:VEVENT
DTSTART;TZID=Europe/Berlin:20240707T110000
DTEND;TZID=Europe/Berlin:20240707T140000
DTSTAMP:20260425T023135
CREATED:20231228T123027Z
LAST-MODIFIED:20231228T123027Z
UID:2142-1720350000-1720360800@www.scst-haltern.de
SUMMARY:Wochenend-Segeln mit Trainingsmöglichkeit
DESCRIPTION:Wochenend-Segeln mit Trainingsmöglichkeit
URL:https://www.scst-haltern.de/event/wochenend-segeln-mit-trainingsmoeglichkeit-8/
CATEGORIES:Vereinsevent
END:VEVENT
BEGIN:VEVENT
DTSTART;TZID=Europe/Berlin:20240713T140000
DTEND;TZID=Europe/Berlin:20240713T170000
DTSTAMP:20260425T023135
CREATED:20231228T123041Z
LAST-MODIFIED:20231228T123041Z
UID:2143-1720879200-1720890000@www.scst-haltern.de
SUMMARY:Wochenend-Segeln mit Trainingsmöglichkeit
DESCRIPTION:Wochenend-Segeln mit Trainingsmöglichkeit
URL:https://www.scst-haltern.de/event/wochenend-segeln-mit-trainingsmoeglichkeit-9/
CATEGORIES:Vereinsevent
END:VEVENT
BEGIN:VEVENT
DTSTART;TZID=Europe/Berlin:20240721T110000
DTEND;TZID=Europe/Berlin:20240721T140000
DTSTAMP:20260425T023135
CREATED:20231228T123041Z
LAST-MODIFIED:20231228T123041Z
UID:2144-1721559600-1721570400@www.scst-haltern.de
SUMMARY:Wochenend-Segeln mit Trainingsmöglichkeit
DESCRIPTION:Wochenend-Segeln mit Trainingsmöglichkeit
URL:https://www.scst-haltern.de/event/wochenend-segeln-mit-trainingsmoeglichkeit-10/
CATEGORIES:Vereinsevent
END:VEVENT
BEGIN:VEVENT
DTSTART;TZID=Europe/Berlin:20240727T140000
DTEND;TZID=Europe/Berlin:20240727T170000
DTSTAMP:20260425T023135
CREATED:20231228T123041Z
LAST-MODIFIED:20231228T123041Z
UID:2145-1722088800-1722099600@www.scst-haltern.de
SUMMARY:Wochenend-Segeln
DESCRIPTION:Wochenend-Segeln
URL:https://www.scst-haltern.de/event/wochenend-segeln-3/
CATEGORIES:Vereinsevent
END:VEVENT
END:VCALENDAR