BEGIN:VCALENDAR
VERSION:2.0
PRODID:-//Segel-Club Stevertalsperre e.V. - ECPv6.15.20//NONSGML v1.0//EN
CALSCALE:GREGORIAN
METHOD:PUBLISH
X-WR-CALNAME:Segel-Club Stevertalsperre e.V.
X-ORIGINAL-URL:https://www.scst-haltern.de
X-WR-CALDESC:Veranstaltungen für Segel-Club Stevertalsperre e.V.
REFRESH-INTERVAL;VALUE=DURATION:PT1H
X-Robots-Tag:noindex
X-PUBLISHED-TTL:PT1H
BEGIN:VTIMEZONE
TZID:Europe/Berlin
BEGIN:DAYLIGHT
TZOFFSETFROM:+0100
TZOFFSETTO:+0200
TZNAME:CEST
DTSTART:20230326T010000
END:DAYLIGHT
BEGIN:STANDARD
TZOFFSETFROM:+0200
TZOFFSETTO:+0100
TZNAME:CET
DTSTART:20231029T010000
END:STANDARD
BEGIN:DAYLIGHT
TZOFFSETFROM:+0100
TZOFFSETTO:+0200
TZNAME:CEST
DTSTART:20240331T010000
END:DAYLIGHT
BEGIN:STANDARD
TZOFFSETFROM:+0200
TZOFFSETTO:+0100
TZNAME:CET
DTSTART:20241027T010000
END:STANDARD
BEGIN:DAYLIGHT
TZOFFSETFROM:+0100
TZOFFSETTO:+0200
TZNAME:CEST
DTSTART:20250330T010000
END:DAYLIGHT
BEGIN:STANDARD
TZOFFSETFROM:+0200
TZOFFSETTO:+0100
TZNAME:CET
DTSTART:20251026T010000
END:STANDARD
END:VTIMEZONE
BEGIN:VEVENT
DTSTART;TZID=Europe/Berlin:20240831T100000
DTEND;TZID=Europe/Berlin:20240901T160000
DTSTAMP:20260425T001156
CREATED:20231218T120426Z
LAST-MODIFIED:20231218T120426Z
UID:2113-1725098400-1725206400@www.scst-haltern.de
SUMMARY:50. Clubmeisterschaft / Jubiläum SCST
DESCRIPTION:50. Clubmeisterschaft / Jubiläum SCST
URL:https://www.scst-haltern.de/event/50-clubmeisterschaft-jubilaeum-scst/
LOCATION:Clubheim SCST\, zu den Mühlen 50\, Haltern am See\, NRW\, 45721\, Deutschland
CATEGORIES:Vereinsevent
END:VEVENT
BEGIN:VEVENT
DTSTART;TZID=Europe/Berlin:20240908T110000
DTEND;TZID=Europe/Berlin:20240908T140000
DTSTAMP:20260425T001156
CREATED:20231228T123056Z
LAST-MODIFIED:20231228T123056Z
UID:2148-1725793200-1725804000@www.scst-haltern.de
SUMMARY:Wochenend-Segeln mit Trainingsmöglichkeit
DESCRIPTION:Wochenend-Segeln mit Trainingsmöglichkeit
URL:https://www.scst-haltern.de/event/wochenend-segeln-mit-trainingsmoeglichkeit-12/
CATEGORIES:Vereinsevent
END:VEVENT
BEGIN:VEVENT
DTSTART;TZID=Europe/Berlin:20240914T140000
DTEND;TZID=Europe/Berlin:20240914T170000
DTSTAMP:20260425T001156
CREATED:20231228T123056Z
LAST-MODIFIED:20231228T123056Z
UID:2149-1726322400-1726333200@www.scst-haltern.de
SUMMARY:Wochenend-Segeln mit Trainingsmöglichkeit
DESCRIPTION:Wochenend-Segeln mit Trainingsmöglichkeit
URL:https://www.scst-haltern.de/event/wochenend-segeln-mit-trainingsmoeglichkeit-13/
CATEGORIES:Vereinsevent
END:VEVENT
BEGIN:VEVENT
DTSTART;TZID=Europe/Berlin:20240922T110000
DTEND;TZID=Europe/Berlin:20240922T140000
DTSTAMP:20260425T001156
CREATED:20231228T123057Z
LAST-MODIFIED:20231228T123057Z
UID:2150-1727002800-1727013600@www.scst-haltern.de
SUMMARY:Wochenend-Segeln mit Trainingsmöglichkeit
DESCRIPTION:Wochenend-Segeln mit Trainingsmöglichkeit
URL:https://www.scst-haltern.de/event/wochenend-segeln-mit-trainingsmoeglichkeit-14/
CATEGORIES:Vereinsevent
END:VEVENT
BEGIN:VEVENT
DTSTART;TZID=Europe/Berlin:20240928T140000
DTEND;TZID=Europe/Berlin:20240928T170000
DTSTAMP:20260425T001156
CREATED:20231228T123057Z
LAST-MODIFIED:20231228T123057Z
UID:2151-1727532000-1727542800@www.scst-haltern.de
SUMMARY:Wochenend-Segeln mit Trainingsmöglichkeit
DESCRIPTION:Wochenend-Segeln mit Trainingsmöglichkeit
URL:https://www.scst-haltern.de/event/wochenend-segeln-mit-trainingsmoeglichkeit-15/
CATEGORIES:Vereinsevent
END:VEVENT
END:VCALENDAR