BEGIN:VCALENDAR
VERSION:2.0
PRODID:-//Segel-Club Stevertalsperre e.V. - ECPv6.15.20//NONSGML v1.0//EN
CALSCALE:GREGORIAN
METHOD:PUBLISH
X-WR-CALNAME:Segel-Club Stevertalsperre e.V.
X-ORIGINAL-URL:https://www.scst-haltern.de
X-WR-CALDESC:Veranstaltungen für Segel-Club Stevertalsperre e.V.
REFRESH-INTERVAL;VALUE=DURATION:PT1H
X-Robots-Tag:noindex
X-PUBLISHED-TTL:PT1H
BEGIN:VTIMEZONE
TZID:Europe/Berlin
BEGIN:DAYLIGHT
TZOFFSETFROM:+0100
TZOFFSETTO:+0200
TZNAME:CEST
DTSTART:20240331T010000
END:DAYLIGHT
BEGIN:STANDARD
TZOFFSETFROM:+0200
TZOFFSETTO:+0100
TZNAME:CET
DTSTART:20241027T010000
END:STANDARD
BEGIN:DAYLIGHT
TZOFFSETFROM:+0100
TZOFFSETTO:+0200
TZNAME:CEST
DTSTART:20250330T010000
END:DAYLIGHT
BEGIN:STANDARD
TZOFFSETFROM:+0200
TZOFFSETTO:+0100
TZNAME:CET
DTSTART:20251026T010000
END:STANDARD
BEGIN:DAYLIGHT
TZOFFSETFROM:+0100
TZOFFSETTO:+0200
TZNAME:CEST
DTSTART:20260329T010000
END:DAYLIGHT
BEGIN:STANDARD
TZOFFSETFROM:+0200
TZOFFSETTO:+0100
TZNAME:CET
DTSTART:20261025T010000
END:STANDARD
END:VTIMEZONE
BEGIN:VEVENT
DTSTART;VALUE=DATE:20250501
DTEND;VALUE=DATE:20250502
DTSTAMP:20260424T150455
CREATED:20250409T144951Z
LAST-MODIFIED:20250409T144951Z
UID:3022-1746057600-1746143999@www.scst-haltern.de
SUMMARY:Ansegeln 2025
DESCRIPTION:Ansegeln mit anschließendem Grillen
URL:https://www.scst-haltern.de/event/ansegeln-2025/
LOCATION:Clubheim SCST\, zu den Mühlen 50\, Haltern am See\, NRW\, 45721\, Deutschland
CATEGORIES:Allgemein,Clubleben
END:VEVENT
BEGIN:VEVENT
DTSTART;TZID=Europe/Berlin:20250501T103000
DTEND;TZID=Europe/Berlin:20250501T180000
DTSTAMP:20260424T150455
CREATED:20250213T180403Z
LAST-MODIFIED:20250213T180403Z
UID:2987-1746095400-1746122400@www.scst-haltern.de
SUMMARY:Ansegeln mit Spaß-Regatta
DESCRIPTION:Ansegeln mit Spaß-Regatta
URL:https://www.scst-haltern.de/event/ansegeln-mit-spass-regatta-2/
LOCATION:Clubheim SCST\, zu den Mühlen 50\, Haltern am See\, NRW\, 45721\, Deutschland
CATEGORIES:Vereinsevent
END:VEVENT
BEGIN:VEVENT
DTSTART;TZID=Europe/Berlin:20250504T110000
DTEND;TZID=Europe/Berlin:20250504T140000
DTSTAMP:20260424T150455
CREATED:20250213T180404Z
LAST-MODIFIED:20250213T180404Z
UID:2988-1746356400-1746367200@www.scst-haltern.de
SUMMARY:Wochenend Segeltreff
DESCRIPTION:Wochenend Segeltreff
URL:https://www.scst-haltern.de/event/wochenend-segeltreff-2/
CATEGORIES:Vereinsevent
END:VEVENT
BEGIN:VEVENT
DTSTART;TZID=Europe/Berlin:20250518T110000
DTEND;TZID=Europe/Berlin:20250518T140000
DTSTAMP:20260424T150455
CREATED:20250213T180404Z
LAST-MODIFIED:20250213T180404Z
UID:2989-1747566000-1747576800@www.scst-haltern.de
SUMMARY:Wochenend Segeltreff
DESCRIPTION:Wochenend Segeltreff
URL:https://www.scst-haltern.de/event/wochenend-segeltreff-3/
CATEGORIES:Vereinsevent
END:VEVENT
END:VCALENDAR