BEGIN:VCALENDAR
VERSION:2.0
PRODID:-//Segel-Club Stevertalsperre e.V. - ECPv6.15.20//NONSGML v1.0//EN
CALSCALE:GREGORIAN
METHOD:PUBLISH
X-WR-CALNAME:Segel-Club Stevertalsperre e.V.
X-ORIGINAL-URL:https://www.scst-haltern.de
X-WR-CALDESC:Veranstaltungen für Segel-Club Stevertalsperre e.V.
REFRESH-INTERVAL;VALUE=DURATION:PT1H
X-Robots-Tag:noindex
X-PUBLISHED-TTL:PT1H
BEGIN:VTIMEZONE
TZID:Europe/Berlin
BEGIN:DAYLIGHT
TZOFFSETFROM:+0100
TZOFFSETTO:+0200
TZNAME:CEST
DTSTART:20240331T010000
END:DAYLIGHT
BEGIN:STANDARD
TZOFFSETFROM:+0200
TZOFFSETTO:+0100
TZNAME:CET
DTSTART:20241027T010000
END:STANDARD
BEGIN:DAYLIGHT
TZOFFSETFROM:+0100
TZOFFSETTO:+0200
TZNAME:CEST
DTSTART:20250330T010000
END:DAYLIGHT
BEGIN:STANDARD
TZOFFSETFROM:+0200
TZOFFSETTO:+0100
TZNAME:CET
DTSTART:20251026T010000
END:STANDARD
BEGIN:DAYLIGHT
TZOFFSETFROM:+0100
TZOFFSETTO:+0200
TZNAME:CEST
DTSTART:20260329T010000
END:DAYLIGHT
BEGIN:STANDARD
TZOFFSETFROM:+0200
TZOFFSETTO:+0100
TZNAME:CET
DTSTART:20261025T010000
END:STANDARD
END:VTIMEZONE
BEGIN:VEVENT
DTSTART;TZID=Europe/Berlin:20250601T110000
DTEND;TZID=Europe/Berlin:20250601T140000
DTSTAMP:20260422T115856
CREATED:20250213T180407Z
LAST-MODIFIED:20250213T180407Z
UID:2991-1748775600-1748786400@www.scst-haltern.de
SUMMARY:Wochenend Segeltreff
DESCRIPTION:Wochenend Segeltreff
URL:https://www.scst-haltern.de/event/wochenend-segeltreff-4/
CATEGORIES:Vereinsevent
END:VEVENT
BEGIN:VEVENT
DTSTART;TZID=Europe/Berlin:20250608T110000
DTEND;TZID=Europe/Berlin:20250608T140000
DTSTAMP:20260422T115856
CREATED:20250213T180407Z
LAST-MODIFIED:20250213T180407Z
UID:2992-1749380400-1749391200@www.scst-haltern.de
SUMMARY:Wochenend Segeltreff
DESCRIPTION:Wochenend Segeltreff
URL:https://www.scst-haltern.de/event/wochenend-segeltreff-5/
CATEGORIES:Vereinsevent
END:VEVENT
BEGIN:VEVENT
DTSTART;TZID=Europe/Berlin:20250615T110000
DTEND;TZID=Europe/Berlin:20250615T140000
DTSTAMP:20260422T115856
CREATED:20250213T180408Z
LAST-MODIFIED:20250213T180408Z
UID:2993-1749985200-1749996000@www.scst-haltern.de
SUMMARY:Wochenend Segeltreff
DESCRIPTION:Wochenend Segeltreff
URL:https://www.scst-haltern.de/event/wochenend-segeltreff-6/
CATEGORIES:Vereinsevent
END:VEVENT
BEGIN:VEVENT
DTSTART;TZID=Europe/Berlin:20250622T110000
DTEND;TZID=Europe/Berlin:20250622T140000
DTSTAMP:20260422T115856
CREATED:20250213T180408Z
LAST-MODIFIED:20250213T180408Z
UID:2994-1750590000-1750600800@www.scst-haltern.de
SUMMARY:Wochenend Segeltreff
DESCRIPTION:Wochenend Segeltreff
URL:https://www.scst-haltern.de/event/wochenend-segeltreff-7/
CATEGORIES:Vereinsevent
END:VEVENT
END:VCALENDAR