BEGIN:VCALENDAR
VERSION:2.0
PRODID:-//Segel-Club Stevertalsperre e.V. - ECPv6.15.20//NONSGML v1.0//EN
CALSCALE:GREGORIAN
METHOD:PUBLISH
X-ORIGINAL-URL:https://www.scst-haltern.de
X-WR-CALDESC:Veranstaltungen für Segel-Club Stevertalsperre e.V.
REFRESH-INTERVAL;VALUE=DURATION:PT1H
X-Robots-Tag:noindex
X-PUBLISHED-TTL:PT1H
BEGIN:VTIMEZONE
TZID:Europe/Berlin
BEGIN:DAYLIGHT
TZOFFSETFROM:+0100
TZOFFSETTO:+0200
TZNAME:CEST
DTSTART:20240331T010000
END:DAYLIGHT
BEGIN:STANDARD
TZOFFSETFROM:+0200
TZOFFSETTO:+0100
TZNAME:CET
DTSTART:20241027T010000
END:STANDARD
BEGIN:DAYLIGHT
TZOFFSETFROM:+0100
TZOFFSETTO:+0200
TZNAME:CEST
DTSTART:20250330T010000
END:DAYLIGHT
BEGIN:STANDARD
TZOFFSETFROM:+0200
TZOFFSETTO:+0100
TZNAME:CET
DTSTART:20251026T010000
END:STANDARD
BEGIN:DAYLIGHT
TZOFFSETFROM:+0100
TZOFFSETTO:+0200
TZNAME:CEST
DTSTART:20260329T010000
END:DAYLIGHT
BEGIN:STANDARD
TZOFFSETFROM:+0200
TZOFFSETTO:+0100
TZNAME:CET
DTSTART:20261025T010000
END:STANDARD
END:VTIMEZONE
BEGIN:VEVENT
DTSTART;TZID=Europe/Berlin:20250803T110000
DTEND;TZID=Europe/Berlin:20250803T140000
DTSTAMP:20260420T163137
CREATED:20250213T180423Z
LAST-MODIFIED:20250213T180423Z
UID:2998-1754218800-1754229600@www.scst-haltern.de
SUMMARY:Wochenend Segeltreff
DESCRIPTION:Wochenend Segeltreff
URL:https://www.scst-haltern.de/event/wochenend-segeltreff-10/
CATEGORIES:Vereinsevent
END:VEVENT
BEGIN:VEVENT
DTSTART;TZID=Europe/Berlin:20250809T140000
DTEND;TZID=Europe/Berlin:20250809T170000
DTSTAMP:20260420T163137
CREATED:20250213T180423Z
LAST-MODIFIED:20250213T180423Z
UID:2999-1754748000-1754758800@www.scst-haltern.de
SUMMARY:Wochenend Segeltreff
DESCRIPTION:Wochenend Segeltreff
URL:https://www.scst-haltern.de/event/wochenend-segeltreff-11/
CATEGORIES:Vereinsevent
END:VEVENT
BEGIN:VEVENT
DTSTART;TZID=Europe/Berlin:20250817T110000
DTEND;TZID=Europe/Berlin:20250817T140000
DTSTAMP:20260420T163137
CREATED:20250213T180438Z
LAST-MODIFIED:20250213T180438Z
UID:3000-1755428400-1755439200@www.scst-haltern.de
SUMMARY:Wochenend Segeltreff
DESCRIPTION:Wochenend Segeltreff
URL:https://www.scst-haltern.de/event/wochenend-segeltreff-12/
CATEGORIES:Vereinsevent
END:VEVENT
BEGIN:VEVENT
DTSTART;TZID=Europe/Berlin:20250830T000000
DTEND;TZID=Europe/Berlin:20250831T000000
DTSTAMP:20260420T163137
CREATED:20250213T180439Z
LAST-MODIFIED:20250730T171400Z
UID:3001-1756512000-1756598400@www.scst-haltern.de
SUMMARY:Clubmeisterschaft 2025
DESCRIPTION:Clubmeisterschaft 2025 jetzt melden \nhttps://www.manage2sail.com/de-DE/event/Clubmeister2025#!/
URL:https://www.scst-haltern.de/event/clubmeisterschaft/
LOCATION:Clubheim SCST\, zu den Mühlen 50\, Haltern am See\, NRW\, 45721\, Deutschland
CATEGORIES:Vereinsevent
END:VEVENT
END:VCALENDAR