BEGIN:VCALENDAR
VERSION:2.0
PRODID:-//Segel-Club Stevertalsperre e.V. - ECPv6.15.20//NONSGML v1.0//EN
CALSCALE:GREGORIAN
METHOD:PUBLISH
X-ORIGINAL-URL:https://www.scst-haltern.de
X-WR-CALDESC:Veranstaltungen für Segel-Club Stevertalsperre e.V.
REFRESH-INTERVAL;VALUE=DURATION:PT1H
X-Robots-Tag:noindex
X-PUBLISHED-TTL:PT1H
BEGIN:VTIMEZONE
TZID:Europe/Berlin
BEGIN:DAYLIGHT
TZOFFSETFROM:+0100
TZOFFSETTO:+0200
TZNAME:CEST
DTSTART:20240331T010000
END:DAYLIGHT
BEGIN:STANDARD
TZOFFSETFROM:+0200
TZOFFSETTO:+0100
TZNAME:CET
DTSTART:20241027T010000
END:STANDARD
BEGIN:DAYLIGHT
TZOFFSETFROM:+0100
TZOFFSETTO:+0200
TZNAME:CEST
DTSTART:20250330T010000
END:DAYLIGHT
BEGIN:STANDARD
TZOFFSETFROM:+0200
TZOFFSETTO:+0100
TZNAME:CET
DTSTART:20251026T010000
END:STANDARD
BEGIN:DAYLIGHT
TZOFFSETFROM:+0100
TZOFFSETTO:+0200
TZNAME:CEST
DTSTART:20260329T010000
END:DAYLIGHT
BEGIN:STANDARD
TZOFFSETFROM:+0200
TZOFFSETTO:+0100
TZNAME:CET
DTSTART:20261025T010000
END:STANDARD
END:VTIMEZONE
BEGIN:VEVENT
DTSTART;TZID=Europe/Berlin:20250524T000000
DTEND;TZID=Europe/Berlin:20250524T000000
DTSTAMP:20260420T180924
CREATED:20250213T180407Z
LAST-MODIFIED:20250515T043552Z
UID:2990-1748044800-1748044800@www.scst-haltern.de
SUMMARY:Kehrein-Regatta für alle Bootsklassen
DESCRIPTION:Kehrein-Regatta für alle Bootsklassen! \nErste Möglichkeit für den See-Pokal Punkte zu sammlen. \nhier geht es zur Meldung \nhttps://www.manage2sail.com/de-DE/event/Kehrein2025#!/
URL:https://www.scst-haltern.de/event/kehrein-regatta-fuer-alle-bootsklassen/
LOCATION:Clubheim SCST\, zu den Mühlen 50\, Haltern am See\, NRW\, 45721\, Deutschland
CATEGORIES:Clubleben,Regatta
END:VEVENT
END:VCALENDAR